BEGIN:VCALENDAR
VERSION:2.0
PRODID:-//fatfish - ECPv6.13.2.1//NONSGML v1.0//EN
CALSCALE:GREGORIAN
METHOD:PUBLISH
X-WR-CALNAME:fatfish
X-ORIGINAL-URL:https://fatfish.info
X-WR-CALDESC:Events for fatfish
REFRESH-INTERVAL;VALUE=DURATION:PT1H
X-Robots-Tag:noindex
X-PUBLISHED-TTL:PT1H
BEGIN:VTIMEZONE
TZID:America/New_York
BEGIN:DAYLIGHT
TZOFFSETFROM:-0500
TZOFFSETTO:-0400
TZNAME:EDT
DTSTART:20260308T070000
END:DAYLIGHT
BEGIN:STANDARD
TZOFFSETFROM:-0400
TZOFFSETTO:-0500
TZNAME:EST
DTSTART:20261101T060000
END:STANDARD
END:VTIMEZONE
BEGIN:VEVENT
DTSTART;TZID=America/New_York:20260424T170000
DTEND;TZID=America/New_York:20260424T200000
DTSTAMP:20260423T084336
CREATED:20260406T165943Z
LAST-MODIFIED:20260406T170059Z
UID:5047-1777050000-1777060800@fatfish.info
SUMMARY:LIVE MUSIC - Kevin Lewis Duo
DESCRIPTION:
URL:https://fatfish.info/event/live-music-kevin-lew-duo/
END:VEVENT
BEGIN:VEVENT
DTSTART;TZID=America/New_York:20260425T170000
DTEND;TZID=America/New_York:20260425T200000
DTSTAMP:20260423T084336
CREATED:20260406T170005Z
LAST-MODIFIED:20260406T170005Z
UID:5049-1777136400-1777147200@fatfish.info
SUMMARY:LIVE MUSIC - South Bay Trio
DESCRIPTION:
URL:https://fatfish.info/event/live-music-south-bay-trio-2/
END:VEVENT
BEGIN:VEVENT
DTSTART;VALUE=DATE:20260427
DTEND;VALUE=DATE:20260428
DTSTAMP:20260423T084336
CREATED:20260406T165817Z
LAST-MODIFIED:20260406T165817Z
UID:5041-1777248000-1777334399@fatfish.info
SUMMARY:CLOSED
DESCRIPTION:
URL:https://fatfish.info/event/closed-3/
END:VEVENT
BEGIN:VEVENT
DTSTART;TZID=America/New_York:20260429T170000
DTEND;TZID=America/New_York:20260429T183000
DTSTAMP:20260423T084336
CREATED:20260406T165708Z
LAST-MODIFIED:20260406T165708Z
UID:5037-1777482000-1777487400@fatfish.info
SUMMARY:Giveback Wednesday (Customer Appreciation)
DESCRIPTION:Complimentary Food & Beverage tasting 5-6:30
URL:https://fatfish.info/event/giveback-wednesday-customer-appreciation-3/
END:VEVENT
END:VCALENDAR